BEGIN:VCALENDAR
VERSION:2.0
PRODID:-//Blair Regional YMCA - ECPv6.15.20//NONSGML v1.0//EN
CALSCALE:GREGORIAN
METHOD:PUBLISH
X-WR-CALNAME:Blair Regional YMCA
X-ORIGINAL-URL:https://blairregionalymca.org
X-WR-CALDESC:Events for Blair Regional YMCA
REFRESH-INTERVAL;VALUE=DURATION:PT1H
X-Robots-Tag:noindex
X-PUBLISHED-TTL:PT1H
BEGIN:VTIMEZONE
TZID:America/New_York
BEGIN:DAYLIGHT
TZOFFSETFROM:-0500
TZOFFSETTO:-0400
TZNAME:EDT
DTSTART:20250309T070000
END:DAYLIGHT
BEGIN:STANDARD
TZOFFSETFROM:-0400
TZOFFSETTO:-0500
TZNAME:EST
DTSTART:20251102T060000
END:STANDARD
BEGIN:DAYLIGHT
TZOFFSETFROM:-0500
TZOFFSETTO:-0400
TZNAME:EDT
DTSTART:20260308T070000
END:DAYLIGHT
BEGIN:STANDARD
TZOFFSETFROM:-0400
TZOFFSETTO:-0500
TZNAME:EST
DTSTART:20261101T060000
END:STANDARD
BEGIN:DAYLIGHT
TZOFFSETFROM:-0500
TZOFFSETTO:-0400
TZNAME:EDT
DTSTART:20270314T070000
END:DAYLIGHT
BEGIN:STANDARD
TZOFFSETFROM:-0400
TZOFFSETTO:-0500
TZNAME:EST
DTSTART:20271107T060000
END:STANDARD
END:VTIMEZONE
BEGIN:VEVENT
DTSTART;TZID=America/New_York:20260704T073000
DTEND;TZID=America/New_York:20260704T103000
DTSTAMP:20260425T114919
CREATED:20260320T140404Z
LAST-MODIFIED:20260320T141130Z
UID:10000623-1783150200-1783161000@blairregionalymca.org
SUMMARY:Community Wellness Challenge Series 2026: July 4th Angie Gioiosa Memorial Race
DESCRIPTION:JULY 4th ANGIE GIOIOSA MEMORIAL RACE \n\n\nIn its 53RD year this race includes a 15k run\, 5k run (certified)\, 2 mile walk and Lollipop Run for ages 6 & under. This race attracts upwards of 1000 participants with a massive spectator following. JOIN US FOR OUR ANNUAL POST-RACE PICNIC IN THE PLAZA AS WE CELEBRATE AMERICA’S 250TH BIRTHDAY!!
URL:https://blairregionalymca.org/event/community-wellness-challenge-series-2026-july-4th-angie-gioiosa-memorial-race/
LOCATION:Mishler Theatre\, 1208 12th Ave. #206\, Altoona\, PA\, 16601
ATTACH;FMTTYPE=image/png:https://blairregionalymca.org/wp-content/uploads/2026/03/Sponsors-3.png
ORGANIZER;CN="Frank Kopriva":MAILTO:FKopriva@BlairRegionalYMCA.org
END:VEVENT
END:VCALENDAR