BEGIN:VCALENDAR
VERSION:2.0
PRODID:-//Blair Regional YMCA - ECPv6.15.20//NONSGML v1.0//EN
CALSCALE:GREGORIAN
METHOD:PUBLISH
X-ORIGINAL-URL:https://blairregionalymca.org
X-WR-CALDESC:Events for Blair Regional YMCA
REFRESH-INTERVAL;VALUE=DURATION:PT1H
X-Robots-Tag:noindex
X-PUBLISHED-TTL:PT1H
BEGIN:VTIMEZONE
TZID:America/New_York
BEGIN:DAYLIGHT
TZOFFSETFROM:-0500
TZOFFSETTO:-0400
TZNAME:EDT
DTSTART:20210314T070000
END:DAYLIGHT
BEGIN:STANDARD
TZOFFSETFROM:-0400
TZOFFSETTO:-0500
TZNAME:EST
DTSTART:20211107T060000
END:STANDARD
BEGIN:DAYLIGHT
TZOFFSETFROM:-0500
TZOFFSETTO:-0400
TZNAME:EDT
DTSTART:20220313T070000
END:DAYLIGHT
BEGIN:STANDARD
TZOFFSETFROM:-0400
TZOFFSETTO:-0500
TZNAME:EST
DTSTART:20221106T060000
END:STANDARD
BEGIN:DAYLIGHT
TZOFFSETFROM:-0500
TZOFFSETTO:-0400
TZNAME:EDT
DTSTART:20230312T070000
END:DAYLIGHT
BEGIN:STANDARD
TZOFFSETFROM:-0400
TZOFFSETTO:-0500
TZNAME:EST
DTSTART:20231105T060000
END:STANDARD
END:VTIMEZONE
BEGIN:VEVENT
DTSTART;TZID=America/New_York:20220323T163000
DTEND;TZID=America/New_York:20220323T203000
DTSTAMP:20260425T130348
CREATED:20220303T154359Z
LAST-MODIFIED:20220303T154359Z
UID:10000205-1648053000-1648067400@blairregionalymca.org
SUMMARY:Lifeguard Training
DESCRIPTION:WE’RE HIRING! Lifeguards + Pool Attendants | FREE TRAINING PROVIDED \nSchedule: \n8 Classes | Mondays + Wednesdays \n4:30P – 8:30P (Not All Sessions Will Run the Full Time) \nMarch 21st – April 13th\, 2022 \nRequirements: \nMust be 16 for Lifeguard Certification \nMust be 15 for Pool Attendant Certification \nLocations: \nBlair Regional YMCA \nBlairmont \nBellwood \nCresson Lions \nManor \nContact: \nTom Grassadonia | TGrassadonia@BlairRegionalYMCA.org
URL:https://blairregionalymca.org/event/lifeguard-training-2/2022-03-23/
LOCATION:Blair Regional YMCA\, 1111 Hewit Street\, Hollidaysburg\, PA\, 16648
ORGANIZER;CN="Thomas Grassadonia":MAILTO:TGrassadonia@BlairRegionalYMCA.org
END:VEVENT
BEGIN:VEVENT
DTSTART;TZID=America/New_York:20220321T163000
DTEND;TZID=America/New_York:20220321T203000
DTSTAMP:20260425T130348
CREATED:20220303T153914Z
LAST-MODIFIED:20220303T154123Z
UID:10000201-1647880200-1647894600@blairregionalymca.org
SUMMARY:Lifeguard Training
DESCRIPTION:WE’RE HIRING! Lifeguards + Pool Attendants | FREE TRAINING PROVIDED \nSchedule: \n8 Classes | Mondays + Wednesdays \n4:30P – 8:30P (Not All Sessions Will Run the Full Time) \nMarch 21st – April 13th\, 2022 \nRequirements: \nMust be 16 for Lifeguard Certification \nMust be 15 for Pool Attendant Certification \nLocations: \nBlair Regional YMCA \nBlairmont \nBellwood \nCresson Lions \nManor \nContact: \nTom Grassadonia | TGrassadonia@BlairRegionalYMCA.org
URL:https://blairregionalymca.org/event/lifeguard-training/2022-03-21/
LOCATION:Blair Regional YMCA\, 1111 Hewit Street\, Hollidaysburg\, PA\, 16648
ORGANIZER;CN="Thomas Grassadonia":MAILTO:TGrassadonia@BlairRegionalYMCA.org
END:VEVENT
BEGIN:VEVENT
DTSTART;VALUE=DATE:20220311
DTEND;VALUE=DATE:20220314
DTSTAMP:20260425T130348
CREATED:20220303T154835Z
LAST-MODIFIED:20220303T154835Z
UID:10000209-1646956800-1647215999@blairregionalymca.org
SUMMARY:YMCA West Districts Swim Meet | Geneva\, OH
DESCRIPTION:FOR MORE INFO CONTACT Tom Grassadonia | TGrassadonia@BlairRegionalYMCA.org
URL:https://blairregionalymca.org/event/ymca-west-districts-swim-meet-geneva-oh/
LOCATION:SPIRE Institute\, 5201 Spire Cir\, Geneva\, OH\, 44041\, United States
ORGANIZER;CN="Thomas Grassadonia":MAILTO:TGrassadonia@BlairRegionalYMCA.org
END:VEVENT
END:VCALENDAR