BEGIN:VCALENDAR
VERSION:2.0
PRODID:-//Blair Regional YMCA - ECPv6.15.20//NONSGML v1.0//EN
CALSCALE:GREGORIAN
METHOD:PUBLISH
X-WR-CALNAME:Blair Regional YMCA
X-ORIGINAL-URL:https://blairregionalymca.org
X-WR-CALDESC:Events for Blair Regional YMCA
REFRESH-INTERVAL;VALUE=DURATION:PT1H
X-Robots-Tag:noindex
X-PUBLISHED-TTL:PT1H
BEGIN:VTIMEZONE
TZID:America/New_York
BEGIN:DAYLIGHT
TZOFFSETFROM:-0500
TZOFFSETTO:-0400
TZNAME:EDT
DTSTART:20210314T070000
END:DAYLIGHT
BEGIN:STANDARD
TZOFFSETFROM:-0400
TZOFFSETTO:-0500
TZNAME:EST
DTSTART:20211107T060000
END:STANDARD
BEGIN:DAYLIGHT
TZOFFSETFROM:-0500
TZOFFSETTO:-0400
TZNAME:EDT
DTSTART:20220313T070000
END:DAYLIGHT
BEGIN:STANDARD
TZOFFSETFROM:-0400
TZOFFSETTO:-0500
TZNAME:EST
DTSTART:20221106T060000
END:STANDARD
BEGIN:DAYLIGHT
TZOFFSETFROM:-0500
TZOFFSETTO:-0400
TZNAME:EDT
DTSTART:20230312T070000
END:DAYLIGHT
BEGIN:STANDARD
TZOFFSETFROM:-0400
TZOFFSETTO:-0500
TZNAME:EST
DTSTART:20231105T060000
END:STANDARD
END:VTIMEZONE
BEGIN:VEVENT
DTSTART;TZID=America/New_York:20220720T190000
DTEND;TZID=America/New_York:20220720T220000
DTSTAMP:20260425T114903
CREATED:20220624T142357Z
LAST-MODIFIED:20220624T142357Z
UID:10000002-1658343600-1658354400@blairregionalymca.org
SUMMARY:Wednesday Night Summer Splash Hop!
DESCRIPTION:It’s time for the wet & wild fun this summer!  \n\nMusic/DJ\nGames\nDancing\nSpecial Snacks Available for Purchase\n$4 Members / $6 Public\n\nTHEMES for JULY: \n\n7/13 Country\n7/20 80’s
URL:https://blairregionalymca.org/event/wednesday-night-summer-splash-hop/2022-07-20/
LOCATION:Bellwood-Antis Community Pool\, North 3rd St.\, Bellwood\, PA\, 16617\, United States
ATTACH;FMTTYPE=image/png:https://blairregionalymca.org/wp-content/uploads/2022/06/Bellwood-Antis-SM-6.24.2022-Facebook-Post.png
ORGANIZER;CN="Heidi Soldner":MAILTO:soldnerheidi@gmail.com
END:VEVENT
BEGIN:VEVENT
DTSTART;TZID=America/New_York:20220713T190000
DTEND;TZID=America/New_York:20220713T220000
DTSTAMP:20260425T114903
CREATED:20220624T142357Z
LAST-MODIFIED:20220624T142357Z
UID:10000001-1657738800-1657749600@blairregionalymca.org
SUMMARY:Wednesday Night Summer Splash Hop!
DESCRIPTION:It’s time for the wet & wild fun this summer!  \n\nMusic/DJ\nGames\nDancing\nSpecial Snacks Available for Purchase\n$4 Members / $6 Public\n\nTHEMES for JULY: \n\n7/13 Country\n7/20 80’s
URL:https://blairregionalymca.org/event/wednesday-night-summer-splash-hop/2022-07-13/
LOCATION:Bellwood-Antis Community Pool\, North 3rd St.\, Bellwood\, PA\, 16617\, United States
ATTACH;FMTTYPE=image/png:https://blairregionalymca.org/wp-content/uploads/2022/06/Bellwood-Antis-SM-6.24.2022-Facebook-Post.png
ORGANIZER;CN="Heidi Soldner":MAILTO:soldnerheidi@gmail.com
END:VEVENT
BEGIN:VEVENT
DTSTART;TZID=America/New_York:20220629T190000
DTEND;TZID=America/New_York:20220629T220000
DTSTAMP:20260425T114903
CREATED:20220525T155752Z
LAST-MODIFIED:20220525T155752Z
UID:10000446-1656529200-1656540000@blairregionalymca.org
SUMMARY:Splash Hop | Luau Theme!
DESCRIPTION:Splash Hops at Bellwood-Antis Community Pool! \nLuau Theme! \n7:00P-10:00P DJ Music\, Games\, Dancing\, and FUN! \nSpecial snacks available for purchase. \n$4/Event B-A Members | $6/Event Public \n**SPECIAL THANKS TO THE BRY ELC FOR SPONSORING THIS EVENT!
URL:https://blairregionalymca.org/event/splash-hop-luau-theme/
LOCATION:Bellwood-Antis Community Pool\, North 3rd St.\, Bellwood\, PA\, 16617\, United States
ATTACH;FMTTYPE=image/png:https://blairregionalymca.org/wp-content/uploads/2022/05/Bellwood-Antis-Pool-Flyer-Summer2022_Page_2.png
ORGANIZER;CN="Thomas Grassadonia":MAILTO:TGrassadonia@BlairRegionalYMCA.org
END:VEVENT
BEGIN:VEVENT
DTSTART;TZID=America/New_York:20220615T190000
DTEND;TZID=America/New_York:20220615T220000
DTSTAMP:20260425T114903
CREATED:20220525T155349Z
LAST-MODIFIED:20220525T160018Z
UID:10000445-1655319600-1655330400@blairregionalymca.org
SUMMARY:Splash & A Flick Movie Night!
DESCRIPTION:Movie Night at Bellwood-Antis Community Pool! \nSafari Theme! \n7:00 P – 8:30 P | Mini Splash Hop \n9:00 P | Lion King on the lawn \n$3 Pool Members | $5 Public \n**THANKS TO BLAIR DRUG & ALCOHOL FOR PROVIDING THE MOVIE!! 
URL:https://blairregionalymca.org/event/splash-a-flick-movie-night/
LOCATION:Bellwood-Antis Community Pool\, North 3rd St.\, Bellwood\, PA\, 16617\, United States
ATTACH;FMTTYPE=image/png:https://blairregionalymca.org/wp-content/uploads/2022/05/Bellwood-Antis-Pool-Flyer-Summer2022_Page_2.png
ORGANIZER;CN="Thomas Grassadonia":MAILTO:TGrassadonia@BlairRegionalYMCA.org
END:VEVENT
BEGIN:VEVENT
DTSTART;TZID=America/New_York:20220515T140000
DTEND;TZID=America/New_York:20220515T163000
DTSTAMP:20260425T114903
CREATED:20220414T174101Z
LAST-MODIFIED:20220414T174101Z
UID:10000253-1652623200-1652632200@blairregionalymca.org
SUMMARY:Altoona Rotary Club Presents Learn to Swim!
DESCRIPTION:SAFETY | EDUCATION | INSTRUCTION \nFREE Swim Lessons will take place at the Blair Regional YMCA \nSunday | May 15\, 2022 \n2 Sessions | 2:00 PM – 3:00 PM + 3:30 PM – 4:30 PM \n**SPACE IS LIMITED. Register in-person at Blair Regional YMCA. 
URL:https://blairregionalymca.org/event/altoona-rotary-club-presents-learn-to-swim/
LOCATION:Blair Regional YMCA\, 1111 Hewit Street\, Hollidaysburg\, PA\, 16648
ATTACH;FMTTYPE=image/png:https://blairregionalymca.org/wp-content/uploads/2022/04/Aqua-Rotary-Swim-Lessons-Flyer-May2022-v2.png
ORGANIZER;CN="Thomas Grassadonia":MAILTO:TGrassadonia@BlairRegionalYMCA.org
END:VEVENT
BEGIN:VEVENT
DTSTART;VALUE=DATE:20220503
DTEND;VALUE=DATE:20220504
DTSTAMP:20260425T114903
CREATED:20220414T173536Z
LAST-MODIFIED:20220414T173536Z
UID:10000252-1651536000-1651622399@blairregionalymca.org
SUMMARY:Swim Clinic
DESCRIPTION:For more info contact Tom Grassadonia\, Aquatics Director at 814.695.4467 ext. 223 or TGrassadonia@BlairRegionalYMCA.org
URL:https://blairregionalymca.org/event/swim-clinic/
LOCATION:Blair Regional YMCA\, 1111 Hewit Street\, Hollidaysburg\, PA\, 16648
ATTACH;FMTTYPE=image/png:https://blairregionalymca.org/wp-content/uploads/2022/04/Leah_YMCA-Nationals-6.png
ORGANIZER;CN="Thomas Grassadonia":MAILTO:TGrassadonia@BlairRegionalYMCA.org
END:VEVENT
BEGIN:VEVENT
DTSTART;TZID=America/New_York:20220413T163000
DTEND;TZID=America/New_York:20220413T203000
DTSTAMP:20260425T114903
CREATED:20220303T154359Z
LAST-MODIFIED:20220303T154359Z
UID:10000208-1649867400-1649881800@blairregionalymca.org
SUMMARY:Lifeguard Training
DESCRIPTION:WE’RE HIRING! Lifeguards + Pool Attendants | FREE TRAINING PROVIDED \nSchedule: \n8 Classes | Mondays + Wednesdays \n4:30P – 8:30P (Not All Sessions Will Run the Full Time) \nMarch 21st – April 13th\, 2022 \nRequirements: \nMust be 16 for Lifeguard Certification \nMust be 15 for Pool Attendant Certification \nLocations: \nBlair Regional YMCA \nBlairmont \nBellwood \nCresson Lions \nManor \nContact: \nTom Grassadonia | TGrassadonia@BlairRegionalYMCA.org
URL:https://blairregionalymca.org/event/lifeguard-training-2/2022-04-13/
LOCATION:Blair Regional YMCA\, 1111 Hewit Street\, Hollidaysburg\, PA\, 16648
ORGANIZER;CN="Thomas Grassadonia":MAILTO:TGrassadonia@BlairRegionalYMCA.org
END:VEVENT
BEGIN:VEVENT
DTSTART;TZID=America/New_York:20220411T163000
DTEND;TZID=America/New_York:20220411T203000
DTSTAMP:20260425T114903
CREATED:20220303T153914Z
LAST-MODIFIED:20220303T154123Z
UID:10000204-1649694600-1649709000@blairregionalymca.org
SUMMARY:Lifeguard Training
DESCRIPTION:WE’RE HIRING! Lifeguards + Pool Attendants | FREE TRAINING PROVIDED \nSchedule: \n8 Classes | Mondays + Wednesdays \n4:30P – 8:30P (Not All Sessions Will Run the Full Time) \nMarch 21st – April 13th\, 2022 \nRequirements: \nMust be 16 for Lifeguard Certification \nMust be 15 for Pool Attendant Certification \nLocations: \nBlair Regional YMCA \nBlairmont \nBellwood \nCresson Lions \nManor \nContact: \nTom Grassadonia | TGrassadonia@BlairRegionalYMCA.org
URL:https://blairregionalymca.org/event/lifeguard-training/2022-04-11/
LOCATION:Blair Regional YMCA\, 1111 Hewit Street\, Hollidaysburg\, PA\, 16648
ORGANIZER;CN="Thomas Grassadonia":MAILTO:TGrassadonia@BlairRegionalYMCA.org
END:VEVENT
BEGIN:VEVENT
DTSTART;TZID=America/New_York:20220406T163000
DTEND;TZID=America/New_York:20220406T203000
DTSTAMP:20260425T114903
CREATED:20220303T154359Z
LAST-MODIFIED:20220303T154359Z
UID:10000207-1649262600-1649277000@blairregionalymca.org
SUMMARY:Lifeguard Training
DESCRIPTION:WE’RE HIRING! Lifeguards + Pool Attendants | FREE TRAINING PROVIDED \nSchedule: \n8 Classes | Mondays + Wednesdays \n4:30P – 8:30P (Not All Sessions Will Run the Full Time) \nMarch 21st – April 13th\, 2022 \nRequirements: \nMust be 16 for Lifeguard Certification \nMust be 15 for Pool Attendant Certification \nLocations: \nBlair Regional YMCA \nBlairmont \nBellwood \nCresson Lions \nManor \nContact: \nTom Grassadonia | TGrassadonia@BlairRegionalYMCA.org
URL:https://blairregionalymca.org/event/lifeguard-training-2/2022-04-06/
LOCATION:Blair Regional YMCA\, 1111 Hewit Street\, Hollidaysburg\, PA\, 16648
ORGANIZER;CN="Thomas Grassadonia":MAILTO:TGrassadonia@BlairRegionalYMCA.org
END:VEVENT
BEGIN:VEVENT
DTSTART;TZID=America/New_York:20220404T163000
DTEND;TZID=America/New_York:20220404T203000
DTSTAMP:20260425T114903
CREATED:20220303T153914Z
LAST-MODIFIED:20220303T154123Z
UID:10000203-1649089800-1649104200@blairregionalymca.org
SUMMARY:Lifeguard Training
DESCRIPTION:WE’RE HIRING! Lifeguards + Pool Attendants | FREE TRAINING PROVIDED \nSchedule: \n8 Classes | Mondays + Wednesdays \n4:30P – 8:30P (Not All Sessions Will Run the Full Time) \nMarch 21st – April 13th\, 2022 \nRequirements: \nMust be 16 for Lifeguard Certification \nMust be 15 for Pool Attendant Certification \nLocations: \nBlair Regional YMCA \nBlairmont \nBellwood \nCresson Lions \nManor \nContact: \nTom Grassadonia | TGrassadonia@BlairRegionalYMCA.org
URL:https://blairregionalymca.org/event/lifeguard-training/2022-04-04/
LOCATION:Blair Regional YMCA\, 1111 Hewit Street\, Hollidaysburg\, PA\, 16648
ORGANIZER;CN="Thomas Grassadonia":MAILTO:TGrassadonia@BlairRegionalYMCA.org
END:VEVENT
BEGIN:VEVENT
DTSTART;TZID=America/New_York:20220330T163000
DTEND;TZID=America/New_York:20220330T203000
DTSTAMP:20260425T114903
CREATED:20220303T154359Z
LAST-MODIFIED:20220303T154359Z
UID:10000206-1648657800-1648672200@blairregionalymca.org
SUMMARY:Lifeguard Training
DESCRIPTION:WE’RE HIRING! Lifeguards + Pool Attendants | FREE TRAINING PROVIDED \nSchedule: \n8 Classes | Mondays + Wednesdays \n4:30P – 8:30P (Not All Sessions Will Run the Full Time) \nMarch 21st – April 13th\, 2022 \nRequirements: \nMust be 16 for Lifeguard Certification \nMust be 15 for Pool Attendant Certification \nLocations: \nBlair Regional YMCA \nBlairmont \nBellwood \nCresson Lions \nManor \nContact: \nTom Grassadonia | TGrassadonia@BlairRegionalYMCA.org
URL:https://blairregionalymca.org/event/lifeguard-training-2/2022-03-30/
LOCATION:Blair Regional YMCA\, 1111 Hewit Street\, Hollidaysburg\, PA\, 16648
ORGANIZER;CN="Thomas Grassadonia":MAILTO:TGrassadonia@BlairRegionalYMCA.org
END:VEVENT
BEGIN:VEVENT
DTSTART;TZID=America/New_York:20220328T163000
DTEND;TZID=America/New_York:20220328T203000
DTSTAMP:20260425T114903
CREATED:20220303T153914Z
LAST-MODIFIED:20220303T154123Z
UID:10000202-1648485000-1648499400@blairregionalymca.org
SUMMARY:Lifeguard Training
DESCRIPTION:WE’RE HIRING! Lifeguards + Pool Attendants | FREE TRAINING PROVIDED \nSchedule: \n8 Classes | Mondays + Wednesdays \n4:30P – 8:30P (Not All Sessions Will Run the Full Time) \nMarch 21st – April 13th\, 2022 \nRequirements: \nMust be 16 for Lifeguard Certification \nMust be 15 for Pool Attendant Certification \nLocations: \nBlair Regional YMCA \nBlairmont \nBellwood \nCresson Lions \nManor \nContact: \nTom Grassadonia | TGrassadonia@BlairRegionalYMCA.org
URL:https://blairregionalymca.org/event/lifeguard-training/2022-03-28/
LOCATION:Blair Regional YMCA\, 1111 Hewit Street\, Hollidaysburg\, PA\, 16648
ORGANIZER;CN="Thomas Grassadonia":MAILTO:TGrassadonia@BlairRegionalYMCA.org
END:VEVENT
BEGIN:VEVENT
DTSTART;TZID=America/New_York:20220323T163000
DTEND;TZID=America/New_York:20220323T203000
DTSTAMP:20260425T114903
CREATED:20220303T154359Z
LAST-MODIFIED:20220303T154359Z
UID:10000205-1648053000-1648067400@blairregionalymca.org
SUMMARY:Lifeguard Training
DESCRIPTION:WE’RE HIRING! Lifeguards + Pool Attendants | FREE TRAINING PROVIDED \nSchedule: \n8 Classes | Mondays + Wednesdays \n4:30P – 8:30P (Not All Sessions Will Run the Full Time) \nMarch 21st – April 13th\, 2022 \nRequirements: \nMust be 16 for Lifeguard Certification \nMust be 15 for Pool Attendant Certification \nLocations: \nBlair Regional YMCA \nBlairmont \nBellwood \nCresson Lions \nManor \nContact: \nTom Grassadonia | TGrassadonia@BlairRegionalYMCA.org
URL:https://blairregionalymca.org/event/lifeguard-training-2/2022-03-23/
LOCATION:Blair Regional YMCA\, 1111 Hewit Street\, Hollidaysburg\, PA\, 16648
ORGANIZER;CN="Thomas Grassadonia":MAILTO:TGrassadonia@BlairRegionalYMCA.org
END:VEVENT
BEGIN:VEVENT
DTSTART;TZID=America/New_York:20220321T163000
DTEND;TZID=America/New_York:20220321T203000
DTSTAMP:20260425T114903
CREATED:20220303T153914Z
LAST-MODIFIED:20220303T154123Z
UID:10000201-1647880200-1647894600@blairregionalymca.org
SUMMARY:Lifeguard Training
DESCRIPTION:WE’RE HIRING! Lifeguards + Pool Attendants | FREE TRAINING PROVIDED \nSchedule: \n8 Classes | Mondays + Wednesdays \n4:30P – 8:30P (Not All Sessions Will Run the Full Time) \nMarch 21st – April 13th\, 2022 \nRequirements: \nMust be 16 for Lifeguard Certification \nMust be 15 for Pool Attendant Certification \nLocations: \nBlair Regional YMCA \nBlairmont \nBellwood \nCresson Lions \nManor \nContact: \nTom Grassadonia | TGrassadonia@BlairRegionalYMCA.org
URL:https://blairregionalymca.org/event/lifeguard-training/2022-03-21/
LOCATION:Blair Regional YMCA\, 1111 Hewit Street\, Hollidaysburg\, PA\, 16648
ORGANIZER;CN="Thomas Grassadonia":MAILTO:TGrassadonia@BlairRegionalYMCA.org
END:VEVENT
BEGIN:VEVENT
DTSTART;VALUE=DATE:20220311
DTEND;VALUE=DATE:20220314
DTSTAMP:20260425T114903
CREATED:20220303T154835Z
LAST-MODIFIED:20220303T154835Z
UID:10000209-1646956800-1647215999@blairregionalymca.org
SUMMARY:YMCA West Districts Swim Meet | Geneva\, OH
DESCRIPTION:FOR MORE INFO CONTACT Tom Grassadonia | TGrassadonia@BlairRegionalYMCA.org
URL:https://blairregionalymca.org/event/ymca-west-districts-swim-meet-geneva-oh/
LOCATION:SPIRE Institute\, 5201 Spire Cir\, Geneva\, OH\, 44041\, United States
ORGANIZER;CN="Thomas Grassadonia":MAILTO:TGrassadonia@BlairRegionalYMCA.org
END:VEVENT
END:VCALENDAR