BEGIN:VCALENDAR
VERSION:2.0
PRODID:-//Blair Regional YMCA - ECPv6.15.20//NONSGML v1.0//EN
CALSCALE:GREGORIAN
METHOD:PUBLISH
X-ORIGINAL-URL:https://blairregionalymca.org
X-WR-CALDESC:Events for Blair Regional YMCA
REFRESH-INTERVAL;VALUE=DURATION:PT1H
X-Robots-Tag:noindex
X-PUBLISHED-TTL:PT1H
BEGIN:VTIMEZONE
TZID:America/New_York
BEGIN:DAYLIGHT
TZOFFSETFROM:-0500
TZOFFSETTO:-0400
TZNAME:EDT
DTSTART:20210314T070000
END:DAYLIGHT
BEGIN:STANDARD
TZOFFSETFROM:-0400
TZOFFSETTO:-0500
TZNAME:EST
DTSTART:20211107T060000
END:STANDARD
BEGIN:DAYLIGHT
TZOFFSETFROM:-0500
TZOFFSETTO:-0400
TZNAME:EDT
DTSTART:20220313T070000
END:DAYLIGHT
BEGIN:STANDARD
TZOFFSETFROM:-0400
TZOFFSETTO:-0500
TZNAME:EST
DTSTART:20221106T060000
END:STANDARD
BEGIN:DAYLIGHT
TZOFFSETFROM:-0500
TZOFFSETTO:-0400
TZNAME:EDT
DTSTART:20230312T070000
END:DAYLIGHT
BEGIN:STANDARD
TZOFFSETFROM:-0400
TZOFFSETTO:-0500
TZNAME:EST
DTSTART:20231105T060000
END:STANDARD
END:VTIMEZONE
BEGIN:VEVENT
DTSTART;TZID=America/New_York:20220521T093000
DTEND;TZID=America/New_York:20220521T110000
DTSTAMP:20260425T065132
CREATED:20220321T194144Z
LAST-MODIFIED:20220321T201724Z
UID:10000217-1653125400-1653130800@blairregionalymca.org
SUMMARY:Track + Field
DESCRIPTION:DON’T JUST CHASE YOUR DREAMS\, RUN THEM DOWN! \nApril 2nd – June 4th \nAges 7-13 yrs. \nSaturdays | 9:30A-11:00A \nTiger Stadium \n$37 Members | $58 Public
URL:https://blairregionalymca.org/event/track-field/2022-05-21/
LOCATION:Tiger Stadium\, Union Street\, Hollidaysburg\, PA\, 16648\, United States
ATTACH;FMTTYPE=image/png:https://blairregionalymca.org/wp-content/uploads/2022/03/Track-And-Field-Flyer-Apr2022.png
ORGANIZER;CN="Robbie Vonada":MAILTO:RVonada@BlairRegionalYMCA.org
END:VEVENT
BEGIN:VEVENT
DTSTART;TZID=America/New_York:20220521T090000
DTEND;TZID=America/New_York:20220521T100000
DTSTAMP:20260425T065132
CREATED:20220426T204233Z
LAST-MODIFIED:20220426T204233Z
UID:10000400-1653123600-1653127200@blairregionalymca.org
SUMMARY:GAMES | Youth T-Ball League
DESCRIPTION:BE A LITLLE BIG LEAGUER!!  \nRegistration for the BRY Youth T-Ball League ends May 15th\, 2022 and the DRAFT will take place on May 16th\, 2022. \nSeason | May 18th – June 25th \nPractices | Wednesdays 5:30P – 6:30P \nGames | Saturdays 9:00A – 10:00A \nContact Robbie Vonada for more info. | 814.695.4467 or RVonada@BlairRegionalYMCA.org
URL:https://blairregionalymca.org/event/games-youth-t-ball-league/2022-05-21/
LOCATION:Blair Regional YMCA\, 1111 Hewit Street\, Hollidaysburg\, PA\, 16648
ATTACH;FMTTYPE=image/png:https://blairregionalymca.org/wp-content/uploads/2022/04/Youth-T-Ball-League-Flyer-2022.png
ORGANIZER;CN="Robbie Vonada":MAILTO:RVonada@BlairRegionalYMCA.org
END:VEVENT
BEGIN:VEVENT
DTSTART;TZID=America/New_York:20220520T170000
DTEND;TZID=America/New_York:20220520T200000
DTSTAMP:20260425T065132
CREATED:20220419T192315Z
LAST-MODIFIED:20220420T133725Z
UID:10000397-1653066000-1653076800@blairregionalymca.org
SUMMARY:PARENTS NIGHT OUT
DESCRIPTION:Remember your FIRST Date? RELIVE it. \nLet us take care of the kids. You go ahead and take care of each other! Program includes dinner\, swimming\, movies\, games\, and MORE! You must pre-register. \nFriday | May 20th\, 2022 \n5:00P – 8:00P \nKindergarten – 6th Grade \nMembers | $5 First Child and $2 Sibling Discount for Each Additional Child \nPublic | $10/Child
URL:https://blairregionalymca.org/event/parnts-night-out/
LOCATION:Blair Regional YMCA\, 1111 Hewit Street\, Hollidaysburg\, PA\, 16648
ATTACH;FMTTYPE=image/png:https://blairregionalymca.org/wp-content/uploads/2022/04/Parents-Night-Out-May2022.png
ORGANIZER;CN="Frank Kopriva":MAILTO:FKopriva@BlairRegionalYMCA.org
END:VEVENT
BEGIN:VEVENT
DTSTART;TZID=America/New_York:20220518T173000
DTEND;TZID=America/New_York:20220518T183000
DTSTAMP:20260425T065132
CREATED:20220426T203823Z
LAST-MODIFIED:20220426T203823Z
UID:10000413-1652895000-1652898600@blairregionalymca.org
SUMMARY:Practice | Youth T-Ball League
DESCRIPTION:BE A LITLLE BIG LEAGUER!!  \nRegistration for the BRY Youth T-Ball League ends May 15th\, 2022 and the DRAFT will take place on May 16th\, 2022. \nSeason | May 18th – June 25th \nPractices | Wednesdays 5:30P – 6:30P \nGames | Saturdays 9:00A – 10:00A \nContact Robbie Vonada for more info. | 814.695.4467 or RVonada@BlairRegionalYMCA.org
URL:https://blairregionalymca.org/event/practice-youth-t-ball-league/2022-05-18/
LOCATION:Blair Regional YMCA\, 1111 Hewit Street\, Hollidaysburg\, PA\, 16648
ATTACH;FMTTYPE=image/png:https://blairregionalymca.org/wp-content/uploads/2022/04/Youth-T-Ball-League-Flyer-2022.png
ORGANIZER;CN="Robbie Vonada":MAILTO:RVonada@BlairRegionalYMCA.org
END:VEVENT
BEGIN:VEVENT
DTSTART;TZID=America/New_York:20220517T163000
DTEND;TZID=America/New_York:20220517T173000
DTSTAMP:20260425T065132
CREATED:20220414T175253Z
LAST-MODIFIED:20220414T175253Z
UID:10000303-1652805000-1652808600@blairregionalymca.org
SUMMARY:BRY Youth Olympics!
DESCRIPTION:Get Outside\, PLAY AROUND! \nAges | 4-8 yrs. \nCost | $15 Members ~ $25 Public \nDates | May 10\, 2022 – May 24\, 2022 \nTime | 4:30 PM – 5:30 PM \nActivities | Sprinting\, Distance Running\, Throwing\, Long Jump\, Obstacle Course \nContact | Robbie Vonada ~ 814.695.4467 ~ RVonada@BlairRegionalYMCA.org
URL:https://blairregionalymca.org/event/bry-youth-olympics/2022-05-17/
LOCATION:Blair Regional YMCA\, 1111 Hewit Street\, Hollidaysburg\, PA\, 16648
ATTACH;FMTTYPE=image/png:https://blairregionalymca.org/wp-content/uploads/2022/04/BRY-Youth-Olympics-Flyer-May2022.png
ORGANIZER;CN="Robbie Vonada":MAILTO:RVonada@BlairRegionalYMCA.org
END:VEVENT
BEGIN:VEVENT
DTSTART;TZID=America/New_York:20220514T093000
DTEND;TZID=America/New_York:20220514T110000
DTSTAMP:20260425T065132
CREATED:20220321T194144Z
LAST-MODIFIED:20220321T201724Z
UID:10000216-1652520600-1652526000@blairregionalymca.org
SUMMARY:Track + Field
DESCRIPTION:DON’T JUST CHASE YOUR DREAMS\, RUN THEM DOWN! \nApril 2nd – June 4th \nAges 7-13 yrs. \nSaturdays | 9:30A-11:00A \nTiger Stadium \n$37 Members | $58 Public
URL:https://blairregionalymca.org/event/track-field/2022-05-14/
LOCATION:Tiger Stadium\, Union Street\, Hollidaysburg\, PA\, 16648\, United States
ATTACH;FMTTYPE=image/png:https://blairregionalymca.org/wp-content/uploads/2022/03/Track-And-Field-Flyer-Apr2022.png
ORGANIZER;CN="Robbie Vonada":MAILTO:RVonada@BlairRegionalYMCA.org
END:VEVENT
BEGIN:VEVENT
DTSTART;TZID=America/New_York:20220510T163000
DTEND;TZID=America/New_York:20220510T173000
DTSTAMP:20260425T065132
CREATED:20220414T175253Z
LAST-MODIFIED:20220414T175253Z
UID:10000302-1652200200-1652203800@blairregionalymca.org
SUMMARY:BRY Youth Olympics!
DESCRIPTION:Get Outside\, PLAY AROUND! \nAges | 4-8 yrs. \nCost | $15 Members ~ $25 Public \nDates | May 10\, 2022 – May 24\, 2022 \nTime | 4:30 PM – 5:30 PM \nActivities | Sprinting\, Distance Running\, Throwing\, Long Jump\, Obstacle Course \nContact | Robbie Vonada ~ 814.695.4467 ~ RVonada@BlairRegionalYMCA.org
URL:https://blairregionalymca.org/event/bry-youth-olympics/2022-05-10/
LOCATION:Blair Regional YMCA\, 1111 Hewit Street\, Hollidaysburg\, PA\, 16648
ATTACH;FMTTYPE=image/png:https://blairregionalymca.org/wp-content/uploads/2022/04/BRY-Youth-Olympics-Flyer-May2022.png
ORGANIZER;CN="Robbie Vonada":MAILTO:RVonada@BlairRegionalYMCA.org
END:VEVENT
BEGIN:VEVENT
DTSTART;TZID=America/New_York:20220507T093000
DTEND;TZID=America/New_York:20220507T110000
DTSTAMP:20260425T065132
CREATED:20220321T194144Z
LAST-MODIFIED:20220321T201724Z
UID:10000215-1651915800-1651921200@blairregionalymca.org
SUMMARY:Track + Field
DESCRIPTION:DON’T JUST CHASE YOUR DREAMS\, RUN THEM DOWN! \nApril 2nd – June 4th \nAges 7-13 yrs. \nSaturdays | 9:30A-11:00A \nTiger Stadium \n$37 Members | $58 Public
URL:https://blairregionalymca.org/event/track-field/2022-05-07/
LOCATION:Tiger Stadium\, Union Street\, Hollidaysburg\, PA\, 16648\, United States
ATTACH;FMTTYPE=image/png:https://blairregionalymca.org/wp-content/uploads/2022/03/Track-And-Field-Flyer-Apr2022.png
ORGANIZER;CN="Robbie Vonada":MAILTO:RVonada@BlairRegionalYMCA.org
END:VEVENT
BEGIN:VEVENT
DTSTART;TZID=America/New_York:20220430T100000
DTEND;TZID=America/New_York:20220430T130000
DTSTAMP:20260425T065132
CREATED:20220322T141906Z
LAST-MODIFIED:20220401T144249Z
UID:10000249-1651312800-1651323600@blairregionalymca.org
SUMMARY:HEALTHY KIDS DAY
DESCRIPTION:For 30 YEARS\, Healthy Kids Day has been where fun and play become lifelong memories. Join the Blair Regional YMCA on April 30th for a day of healthy\, fun activities that celebrate kids being kids! \nThis event is FREE and OPEN TO THE PUBLIC. \nFor more info\, give us a call at 814.695.4467 or stop by the BRY Welcome Center!
URL:https://blairregionalymca.org/event/healthy-kids-day/
LOCATION:Blair Regional YMCA\, 1111 Hewit Street\, Hollidaysburg\, PA\, 16648
ATTACH;FMTTYPE=image/png:https://blairregionalymca.org/wp-content/uploads/2022/03/Healthy-Kids-Day-Flyer-2022_Local-Sponsors-1.png
ORGANIZER;CN="Robbie Vonada":MAILTO:RVonada@BlairRegionalYMCA.org
END:VEVENT
BEGIN:VEVENT
DTSTART;TZID=America/New_York:20220430T093000
DTEND;TZID=America/New_York:20220430T110000
DTSTAMP:20260425T065132
CREATED:20220321T194144Z
LAST-MODIFIED:20220321T201724Z
UID:10000214-1651311000-1651316400@blairregionalymca.org
SUMMARY:Track + Field
DESCRIPTION:DON’T JUST CHASE YOUR DREAMS\, RUN THEM DOWN! \nApril 2nd – June 4th \nAges 7-13 yrs. \nSaturdays | 9:30A-11:00A \nTiger Stadium \n$37 Members | $58 Public
URL:https://blairregionalymca.org/event/track-field/2022-04-30/
LOCATION:Tiger Stadium\, Union Street\, Hollidaysburg\, PA\, 16648\, United States
ATTACH;FMTTYPE=image/png:https://blairregionalymca.org/wp-content/uploads/2022/03/Track-And-Field-Flyer-Apr2022.png
ORGANIZER;CN="Robbie Vonada":MAILTO:RVonada@BlairRegionalYMCA.org
END:VEVENT
BEGIN:VEVENT
DTSTART;TZID=America/New_York:20220423T093000
DTEND;TZID=America/New_York:20220423T110000
DTSTAMP:20260425T065132
CREATED:20220321T194144Z
LAST-MODIFIED:20220321T201724Z
UID:10000213-1650706200-1650711600@blairregionalymca.org
SUMMARY:Track + Field
DESCRIPTION:DON’T JUST CHASE YOUR DREAMS\, RUN THEM DOWN! \nApril 2nd – June 4th \nAges 7-13 yrs. \nSaturdays | 9:30A-11:00A \nTiger Stadium \n$37 Members | $58 Public
URL:https://blairregionalymca.org/event/track-field/2022-04-23/
LOCATION:Tiger Stadium\, Union Street\, Hollidaysburg\, PA\, 16648\, United States
ATTACH;FMTTYPE=image/png:https://blairregionalymca.org/wp-content/uploads/2022/03/Track-And-Field-Flyer-Apr2022.png
ORGANIZER;CN="Robbie Vonada":MAILTO:RVonada@BlairRegionalYMCA.org
END:VEVENT
BEGIN:VEVENT
DTSTART;TZID=America/New_York:20220422T170000
DTEND;TZID=America/New_York:20220422T200000
DTSTAMP:20260425T065132
CREATED:20220321T202406Z
LAST-MODIFIED:20220321T204032Z
UID:10000222-1650646800-1650657600@blairregionalymca.org
SUMMARY:Parent's Night Out Apr2022
DESCRIPTION:DATE NIGHT? WHY NOT?  \nLet us take care of the kids. You go ahead and take care of each other! Program includes dinner\, swimming\, movies\, games\, and MORE! You must pre-register. \nApril 22nd\, 2022 \n5:00P – 8:00P \nKindergarten – 6th Grade \nFREE to Members | $10/child OR $20/family package PUBLIC \n 
URL:https://blairregionalymca.org/event/parents-night-out-apr2022/
LOCATION:Blair Regional YMCA\, 1111 Hewit Street\, Hollidaysburg\, PA\, 16648
ATTACH;FMTTYPE=image/png:https://blairregionalymca.org/wp-content/uploads/2022/03/Parents-Night-Out-Official-2022-Schedule-Flyer.png
ORGANIZER;CN="Robbie Vonada":MAILTO:RVonada@BlairRegionalYMCA.org
END:VEVENT
BEGIN:VEVENT
DTSTART;TZID=America/New_York:20220411T180000
DTEND;TZID=America/New_York:20220411T191500
DTSTAMP:20260425T065132
CREATED:20220321T200404Z
LAST-MODIFIED:20220321T201816Z
UID:10000220-1649700000-1649704500@blairregionalymca.org
SUMMARY:Spring Football PUNT/PASS/KICK COMPETITION
DESCRIPTION:FOOT on the grass\, BALL ON THE FIELD!  \nApril 11th\, 2022 \n6:00P-7:15P \n$10 Members | $15 Public \n*SIGN UP FOR THE COMBINE CLINIC + THE PUNT/PASS/KICK COMPTETITION AND SAVE! $15 MEMBERS | $25 PUBLIC \nDivisions: \n\n1st-3rd Grade | Male\, Female\n4th-6th Grade | Male\, Female\nJr. High | Male\, Female\nHigh School | Male\, Female\nAdult | Male\, Female
URL:https://blairregionalymca.org/event/spring-football-punt-pass-kick-competition/
LOCATION:Blair Regional YMCA\, 1111 Hewit Street\, Hollidaysburg\, PA\, 16648
ATTACH;FMTTYPE=image/png:https://blairregionalymca.org/wp-content/uploads/2022/03/Football-Programs-Flyer-Spring-2022-.png
ORGANIZER;CN="Robbie Vonada":MAILTO:RVonada@BlairRegionalYMCA.org
END:VEVENT
BEGIN:VEVENT
DTSTART;TZID=America/New_York:20220409T093000
DTEND;TZID=America/New_York:20220409T110000
DTSTAMP:20260425T065132
CREATED:20220321T194144Z
LAST-MODIFIED:20220321T201724Z
UID:10000212-1649496600-1649502000@blairregionalymca.org
SUMMARY:Track + Field
DESCRIPTION:DON’T JUST CHASE YOUR DREAMS\, RUN THEM DOWN! \nApril 2nd – June 4th \nAges 7-13 yrs. \nSaturdays | 9:30A-11:00A \nTiger Stadium \n$37 Members | $58 Public
URL:https://blairregionalymca.org/event/track-field/2022-04-09/
LOCATION:Tiger Stadium\, Union Street\, Hollidaysburg\, PA\, 16648\, United States
ATTACH;FMTTYPE=image/png:https://blairregionalymca.org/wp-content/uploads/2022/03/Track-And-Field-Flyer-Apr2022.png
ORGANIZER;CN="Robbie Vonada":MAILTO:RVonada@BlairRegionalYMCA.org
END:VEVENT
BEGIN:VEVENT
DTSTART;TZID=America/New_York:20220404T180000
DTEND;TZID=America/New_York:20220404T191500
DTSTAMP:20260425T065132
CREATED:20220321T195745Z
LAST-MODIFIED:20220321T201920Z
UID:10000219-1649095200-1649099700@blairregionalymca.org
SUMMARY:Spring Football COMBINE CLINIC
DESCRIPTION:FOOT on the grass\, BALL ON THE FIELD!  \nApril 4th\, 2022 \n6:00P-7:15P \nOpen to ALL AGES (*1st Grade+) \n$10 Members | $15 Public \n*SIGN UP FOR THE COMBINE CLINIC + THE PUNT/PASS/KICK COMPTETITION AND SAVE! $15 MEMBERS | $25 PUBLIC \nMeasurements/Events \n\nHeight/Weight/Arm + Hand Length\n40 yd. Dash\nVertical Jump\nBroad Jump\n20 yd. Shuttle\n3 Cone Drill\n6o yd. Shuttle
URL:https://blairregionalymca.org/event/spring-football-combine-clinic/
LOCATION:Blair Regional YMCA\, 1111 Hewit Street\, Hollidaysburg\, PA\, 16648
ATTACH;FMTTYPE=image/png:https://blairregionalymca.org/wp-content/uploads/2022/03/Football-Programs-Flyer-Spring-2022-.png
ORGANIZER;CN="Robbie Vonada":MAILTO:RVonada@BlairRegionalYMCA.org
END:VEVENT
BEGIN:VEVENT
DTSTART;TZID=America/New_York:20220402T093000
DTEND;TZID=America/New_York:20220402T110000
DTSTAMP:20260425T065132
CREATED:20220321T194144Z
LAST-MODIFIED:20220321T201724Z
UID:10000211-1648891800-1648897200@blairregionalymca.org
SUMMARY:Track + Field
DESCRIPTION:DON’T JUST CHASE YOUR DREAMS\, RUN THEM DOWN! \nApril 2nd – June 4th \nAges 7-13 yrs. \nSaturdays | 9:30A-11:00A \nTiger Stadium \n$37 Members | $58 Public
URL:https://blairregionalymca.org/event/track-field/2022-04-02/
LOCATION:Tiger Stadium\, Union Street\, Hollidaysburg\, PA\, 16648\, United States
ATTACH;FMTTYPE=image/png:https://blairregionalymca.org/wp-content/uploads/2022/03/Track-And-Field-Flyer-Apr2022.png
ORGANIZER;CN="Robbie Vonada":MAILTO:RVonada@BlairRegionalYMCA.org
END:VEVENT
END:VCALENDAR