BEGIN:VCALENDAR
VERSION:2.0
PRODID:-//Blair Regional YMCA - ECPv6.15.20//NONSGML v1.0//EN
CALSCALE:GREGORIAN
METHOD:PUBLISH
X-ORIGINAL-URL:https://blairregionalymca.org
X-WR-CALDESC:Events for Blair Regional YMCA
REFRESH-INTERVAL;VALUE=DURATION:PT1H
X-Robots-Tag:noindex
X-PUBLISHED-TTL:PT1H
BEGIN:VTIMEZONE
TZID:America/New_York
BEGIN:DAYLIGHT
TZOFFSETFROM:-0500
TZOFFSETTO:-0400
TZNAME:EDT
DTSTART:20230312T070000
END:DAYLIGHT
BEGIN:STANDARD
TZOFFSETFROM:-0400
TZOFFSETTO:-0500
TZNAME:EST
DTSTART:20231105T060000
END:STANDARD
BEGIN:DAYLIGHT
TZOFFSETFROM:-0500
TZOFFSETTO:-0400
TZNAME:EDT
DTSTART:20240310T070000
END:DAYLIGHT
BEGIN:STANDARD
TZOFFSETFROM:-0400
TZOFFSETTO:-0500
TZNAME:EST
DTSTART:20241103T060000
END:STANDARD
BEGIN:DAYLIGHT
TZOFFSETFROM:-0500
TZOFFSETTO:-0400
TZNAME:EDT
DTSTART:20250309T070000
END:DAYLIGHT
BEGIN:STANDARD
TZOFFSETFROM:-0400
TZOFFSETTO:-0500
TZNAME:EST
DTSTART:20251102T060000
END:STANDARD
END:VTIMEZONE
BEGIN:VEVENT
DTSTART;TZID=America/New_York:20240213T121500
DTEND;TZID=America/New_York:20240213T124500
DTSTAMP:20260421T074113
CREATED:20240206T215223Z
LAST-MODIFIED:20240206T215223Z
UID:10000597-1707826500-1707828300@blairregionalymca.org
SUMMARY:Lunch & Learn Series - It's A Heart Knock Life
DESCRIPTION:ＮＥＷ ＰＲＯＧＲＡＭ ＡＬＥＲＴ \n\n\n\nWe want to invite you to participate in one of our new educational programs\, the 𝓛𝓾𝓷𝓬𝓱 & 𝓛𝓮𝓪𝓻𝓷 𝓢𝓮𝓻𝓲𝓮𝓼!\n\n\n\n𝐅𝐄𝐁𝐑𝐔𝐀𝐑𝐘: Join 𝓐𝓵𝓲𝓬𝓮\, from our Healthy Living Department\, and members of our local #community\, to have 𝐋𝐔𝐍𝐂𝐇 and 𝐋𝐄𝐀𝐑𝐍 about this month’s topic – 𝐇𝐞𝐚𝐫𝐭 𝐇𝐞𝐚𝐥𝐭𝐡 𝐌𝐨𝐧𝐭𝐡!\n\n\n\nSimply register at the 𝐁𝐥𝐚𝐢𝐫 𝐑𝐞𝐠𝐢𝐨𝐧𝐚𝐥 𝐘𝐌𝐂𝐀 𝐖𝐞𝐥𝐜𝐨𝐦𝐞 𝐃𝐞𝐬𝐤\, bring a 𝐏𝐀𝐂𝐊𝐄𝐃 𝐋𝐔𝐍𝐂𝐇\, and join us in the 𝐁𝐑𝐘 𝐒𝐭𝐮𝐜𝐤𝐞𝐲 𝐑𝐨𝐨𝐦 on 𝐓𝐮𝐞𝐬𝐝𝐚𝐲\, 𝐅𝐞𝐛𝐫𝐮𝐚𝐫𝐲 𝟏𝟑𝐭𝐡 𝐚𝐭 𝟏𝟐:𝟏𝟓𝐏𝐌.\n\n\n\n#BlairRegionalYMCA #ForHealthyLiving #LunchAndLearn #TryTheBRY #BlairCounty #ForeverWell #BetterTogether #BuildingABetterUs
URL:https://blairregionalymca.org/event/lunch-learn-series-its-a-heart-knock-life/
LOCATION:Blair Regional YMCA\, 1111 Hewit Street\, Hollidaysburg\, PA\, 16648
ATTACH;FMTTYPE=image/png:https://blairregionalymca.org/wp-content/uploads/2024/02/Lunch-Learn-Series-February-Heart-Health-2024-Flyer-Facebook-Post.png
ORGANIZER;CN="Melinda Krimmel":MAILTO:MKrimmel@blairregionalymca.org
END:VEVENT
END:VCALENDAR