BEGIN:VCALENDAR
VERSION:2.0
PRODID:-//Blair Regional YMCA - ECPv6.15.20//NONSGML v1.0//EN
CALSCALE:GREGORIAN
METHOD:PUBLISH
X-ORIGINAL-URL:https://blairregionalymca.org
X-WR-CALDESC:Events for Blair Regional YMCA
REFRESH-INTERVAL;VALUE=DURATION:PT1H
X-Robots-Tag:noindex
X-PUBLISHED-TTL:PT1H
BEGIN:VTIMEZONE
TZID:America/New_York
BEGIN:DAYLIGHT
TZOFFSETFROM:-0500
TZOFFSETTO:-0400
TZNAME:EDT
DTSTART:20210314T070000
END:DAYLIGHT
BEGIN:STANDARD
TZOFFSETFROM:-0400
TZOFFSETTO:-0500
TZNAME:EST
DTSTART:20211107T060000
END:STANDARD
BEGIN:DAYLIGHT
TZOFFSETFROM:-0500
TZOFFSETTO:-0400
TZNAME:EDT
DTSTART:20220313T070000
END:DAYLIGHT
BEGIN:STANDARD
TZOFFSETFROM:-0400
TZOFFSETTO:-0500
TZNAME:EST
DTSTART:20221106T060000
END:STANDARD
BEGIN:DAYLIGHT
TZOFFSETFROM:-0500
TZOFFSETTO:-0400
TZNAME:EDT
DTSTART:20230312T070000
END:DAYLIGHT
BEGIN:STANDARD
TZOFFSETFROM:-0400
TZOFFSETTO:-0500
TZNAME:EST
DTSTART:20231105T060000
END:STANDARD
END:VTIMEZONE
BEGIN:VEVENT
DTSTART;VALUE=DATE:20220622
DTEND;VALUE=DATE:20220623
DTSTAMP:20260419T173705
CREATED:20220420T155102Z
LAST-MODIFIED:20220627T175749Z
UID:10000357-1655856000-1655942399@blairregionalymca.org
SUMMARY:2022 SPRING ANNUAL GIVING CAMPAIGN!
DESCRIPTION:LET’S GROW SOMETHING BEAUTIFUL… \nThrough our Annual Spring Giving Campaign\, BRY is able to provide financial assistance opportunities for children\, families\, and individuals to access Y memberships\, programs\, and community services. It is a chance to build a better us\, together. \nWe are accepting donations now and thank you in advance for anything you are able to give\, we are always forever grateful for the beautiful community we are a part of! \nVisit the BRY Donation Page or contact our Community Engagement & Fundraising Development Director\, Phyllis Baker\, at 814.695.4467 / PBaker@BlairRegionalYMCA.org! \n 
URL:https://blairregionalymca.org/event/2022-spring-annual-giving-campaign/2022-06-22/
LOCATION:Blair Regional YMCA\, 1111 Hewit Street\, Hollidaysburg\, PA\, 16648
ATTACH;FMTTYPE=image/png:https://blairregionalymca.org/wp-content/uploads/2022/04/Annual-Spring-Campaign-2022-Flyer.png
ORGANIZER;CN="Phyllis Baker":MAILTO:PBaker@BlairRegionalYMCA.org
END:VEVENT
BEGIN:VEVENT
DTSTART;TZID=America/New_York:20220622T100000
DTEND;TZID=America/New_York:20220622T130000
DTSTAMP:20260419T173705
CREATED:20220511T193310Z
LAST-MODIFIED:20220511T193451Z
UID:10000429-1655892000-1655902800@blairregionalymca.org
SUMMARY:2022 Summer Gymnastics Session 1 | Wednesdays
DESCRIPTION:Find Your Y and start FLYING HIGH THIS SUMMER!  \nBRY Summer Gymnastics Session 1 is OPEN\, register online or by calling 814.695.4467 today! \nSession Dates | Wednesdays\, 6/8 – 6/29 \nClasses & Times Offered: \nKinder | 10:00A – 11:00A \nProgressive | 10:00A – 11:00A \n__ \nKinder | 11:00A – 12:00P \nProgressive | 11:00A – 12:00P \nIntermediate | 11:00A – 12:00P \n__ \nKinder | 12:00P – 1:00P \nProgressive | 12:00P – 1:00P \nIntermediate | 12:00P – 1:00P \nClass Pricing: \nKinder | $27 Member Rate / $45 Public Rate \nProgressive | $27 Member Rate / $45 Public Rate \nIntermediate | $27 Member Rate / $45 Public Rate
URL:https://blairregionalymca.org/event/2022-summer-gymnastics-session-1-wednesdays/2022-06-22/
LOCATION:Blair Regional YMCA\, 1111 Hewit Street\, Hollidaysburg\, PA\, 16648
ATTACH;FMTTYPE=image/png:https://blairregionalymca.org/wp-content/uploads/2022/05/Gymnastics-Summer-Session-1-2022-Flyer_1.png
ORGANIZER;CN="Tonya Romanowicz":MAILTO:TRomanowicz@BlairRegionalYMCA.org
END:VEVENT
BEGIN:VEVENT
DTSTART;TZID=America/New_York:20220622T173000
DTEND;TZID=America/New_York:20220622T183000
DTSTAMP:20260419T173705
CREATED:20220426T203823Z
LAST-MODIFIED:20220426T203823Z
UID:10000418-1655919000-1655922600@blairregionalymca.org
SUMMARY:Practice | Youth T-Ball League
DESCRIPTION:BE A LITLLE BIG LEAGUER!!  \nRegistration for the BRY Youth T-Ball League ends May 15th\, 2022 and the DRAFT will take place on May 16th\, 2022. \nSeason | May 18th – June 25th \nPractices | Wednesdays 5:30P – 6:30P \nGames | Saturdays 9:00A – 10:00A \nContact Robbie Vonada for more info. | 814.695.4467 or RVonada@BlairRegionalYMCA.org
URL:https://blairregionalymca.org/event/practice-youth-t-ball-league/2022-06-22/
LOCATION:Blair Regional YMCA\, 1111 Hewit Street\, Hollidaysburg\, PA\, 16648
ATTACH;FMTTYPE=image/png:https://blairregionalymca.org/wp-content/uploads/2022/04/Youth-T-Ball-League-Flyer-2022.png
ORGANIZER;CN="Robbie Vonada":MAILTO:RVonada@BlairRegionalYMCA.org
END:VEVENT
BEGIN:VEVENT
DTSTART;TZID=America/New_York:20220622T173000
DTEND;TZID=America/New_York:20220622T213000
DTSTAMP:20260419T173705
CREATED:20220525T170225Z
LAST-MODIFIED:20220623T160415Z
UID:10000455-1655919000-1655933400@blairregionalymca.org
SUMMARY:HS Boys Basketball League!
DESCRIPTION:𝑰𝒕’𝒔 𝑵𝑶𝑻𝑯𝑰𝑵𝑮 𝒃𝒖𝒕 𝑵𝑬𝑻 𝒕𝒉𝒊𝒔 𝒔𝒖𝒎𝒎𝒆𝒓 𝒘𝒊𝒕𝒉 𝒕𝒉𝒆 𝑩𝑹𝒀 𝑯𝒊𝒈𝒉 𝑺𝒄𝒉𝒐𝒐𝒍 𝑩𝒐𝒚𝒔 𝑩𝒂𝒔𝒌𝒆𝒕𝒃𝒂𝒍𝒍 𝑳𝒆𝒂𝒈𝒖𝒆! \nJune 1 – June 29 \nMondays + Wednesdays \n5:30 P – 9:30 P \n*For more info\, give us a call at 814.695.4467
URL:https://blairregionalymca.org/event/hs-boys-basketball-league/2022-06-22/
LOCATION:Blair Regional YMCA\, 1111 Hewit Street\, Hollidaysburg\, PA\, 16648
ATTACH;FMTTYPE=image/png:https://blairregionalymca.org/wp-content/uploads/2022/05/Event-Cal_HS-Boys-Summer-Basketball-Lge.-2022.png
ORGANIZER;CN="Frank Kopriva":MAILTO:FKopriva@BlairRegionalYMCA.org
END:VEVENT
END:VCALENDAR